BEGIN:VCALENDAR
VERSION:2.0
PRODID:-//wp-events-plugin.com//7.2.3.1//EN
TZID:Europe/London
X-WR-TIMEZONE:Europe/London
BEGIN:VEVENT
UID:2@stage2.tenantstogether.scot
DTSTART;TZID=Europe/London:20260819T103000
DTEND;TZID=Europe/London:20260819T153000
DTSTAMP:20260417T160202Z
URL:https://stage2.tenantstogether.scot/events/tts-committee-meeting/
SUMMARY:TTS Committee Meeting
DESCRIPTION:
CATEGORIES:Face-to-Face,Meeting
LOCATION:In Person Meeting\, Face to Face\, In Person\, United Kingdom
X-APPLE-STRUCTURED-LOCATION;VALUE=URI;X-ADDRESS=Face to Face\, In Person\, 
 United Kingdom;X-APPLE-RADIUS=100;X-TITLE=In Person Meeting:geo:0,0
END:VEVENT
BEGIN:VTIMEZONE
TZID:Europe/London
X-LIC-LOCATION:Europe/London
BEGIN:DAYLIGHT
DTSTART:20260329T020000
TZOFFSETFROM:+0000
TZOFFSETTO:+0100
TZNAME:BST
END:DAYLIGHT
END:VTIMEZONE
END:VCALENDAR